BEGIN:VCALENDAR
VERSION:2.0
PRODID:-//hacksw/handcal//NONSGML v1.0//EN
BEGIN:VEVENT
SUMMARY:Les Rencontres de l'ODS
UID:f473ebfb-4069-46e4-b418-4462ac33754f
DTSTART:20260519T163000Z
DTEND:20260519T180000Z
LOCATION:Localisation   
CATEGORIES:Sportif
STATUS:
URL;VALUE=URI:https://www.officedessports44600.fr/evenements/2026/05/19/les-rencontres-de-lods-2443588
END:VEVENT
END:VCALENDAR
